BEGIN:VCALENDAR
VERSION:2.0
PRODID:-//ICMC HAMBURG 2026 - ECPv6.15.20//NONSGML v1.0//EN
CALSCALE:GREGORIAN
METHOD:PUBLISH
X-WR-CALNAME:ICMC HAMBURG 2026
X-ORIGINAL-URL:http://icmc2026.ligeti-zentrum.de
X-WR-CALDESC:Events for ICMC HAMBURG 2026
REFRESH-INTERVAL;VALUE=DURATION:PT1H
X-Robots-Tag:noindex
X-PUBLISHED-TTL:PT1H
BEGIN:VTIMEZONE
TZID:Europe/Amsterdam
BEGIN:DAYLIGHT
TZOFFSETFROM:+0100
TZOFFSETTO:+0200
TZNAME:CEST
DTSTART:20250330T010000
END:DAYLIGHT
BEGIN:STANDARD
TZOFFSETFROM:+0200
TZOFFSETTO:+0100
TZNAME:CET
DTSTART:20251026T010000
END:STANDARD
BEGIN:DAYLIGHT
TZOFFSETFROM:+0100
TZOFFSETTO:+0200
TZNAME:CEST
DTSTART:20260329T010000
END:DAYLIGHT
BEGIN:STANDARD
TZOFFSETFROM:+0200
TZOFFSETTO:+0100
TZNAME:CET
DTSTART:20261025T010000
END:STANDARD
BEGIN:DAYLIGHT
TZOFFSETFROM:+0100
TZOFFSETTO:+0200
TZNAME:CEST
DTSTART:20270328T010000
END:DAYLIGHT
BEGIN:STANDARD
TZOFFSETFROM:+0200
TZOFFSETTO:+0100
TZNAME:CET
DTSTART:20271031T010000
END:STANDARD
END:VTIMEZONE
BEGIN:VEVENT
DTSTART;TZID=Europe/Amsterdam:20260511T110000
DTEND;TZID=Europe/Amsterdam:20260511T180000
DTSTAMP:20260423T041222
CREATED:20260421T093948Z
LAST-MODIFIED:20260421T095126Z
UID:10000142-1778497200-1778522400@icmc2026.ligeti-zentrum.de
SUMMARY:Installation | Miles Friday: "Breathwork"
DESCRIPTION:Breathwork is a twelve-channel sound installation where loudspeakers become breathing bodies. Each loudspeaker is encased in an inflatable bag that swells and contracts in response to low-frequency drones\, forming a slow\, ever-shifting breath-like choreography. \nWithin this field of motion\, clouds of layered just intonation partials drift in and out of perception\, while low frequencies create a base of acoustic beating and Shepard tone-esque glissandos. By transforming the loudspeaker into a pneumatic pump\, Breathwork reimagines the loudspeaker as a tool for visual synthesis\, where vibrations in the air animate inflatables as kinetic sculptures—synthetic lungs whose movement create polyrhythms that can be both seen and heard. \nAll audio is generated live via SuperCollider and is running on two Bela Mini Multichannel Expanders. \nAbout the artist\nMiles Jefferson Friday is an artist who focuses on sound as his primary medium. Building new instruments\, composing music\, designing sound sculptures\, and creating immersive installations\, his practice invites us to reconsider how we hear and listen. Miles is currently an Assistant Professor of Digital Music at University of Texas at San Antonio\, holds a DMA and MFA from Cornell University\, and an MA from the Eastman School of Music. \n 
URL:http://icmc2026.ligeti-zentrum.de/event/installation-miles-friday-breathwork-1-2/
LOCATION:Hamburg University of Technology\, Building A (Foyer)\, Am Schwarzenberg-Campus 1\, Hamburg\, 21073\, Germany
CATEGORIES:11-05,Installation
ORGANIZER;CN="ICMC HAMBURG 2026":MAILTO:info@icmc2026.ligeti-zentrum.de
END:VEVENT
BEGIN:VEVENT
DTSTART;TZID=Europe/Amsterdam:20260512T110000
DTEND;TZID=Europe/Amsterdam:20260512T180000
DTSTAMP:20260423T041222
CREATED:20260421T094037Z
LAST-MODIFIED:20260421T095133Z
UID:10000141-1778583600-1778608800@icmc2026.ligeti-zentrum.de
SUMMARY:Installation | Miles Friday: "Breathwork"
DESCRIPTION:Breathwork is a twelve-channel sound installation where loudspeakers become breathing bodies. Each loudspeaker is encased in an inflatable bag that swells and contracts in response to low-frequency drones\, forming a slow\, ever-shifting breath-like choreography. \nWithin this field of motion\, clouds of layered just intonation partials drift in and out of perception\, while low frequencies create a base of acoustic beating and Shepard tone-esque glissandos. By transforming the loudspeaker into a pneumatic pump\, Breathwork reimagines the loudspeaker as a tool for visual synthesis\, where vibrations in the air animate inflatables as kinetic sculptures—synthetic lungs whose movement create polyrhythms that can be both seen and heard. \nAll audio is generated live via SuperCollider and is running on two Bela Mini Multichannel Expanders. \nAbout the artist\nMiles Jefferson Friday is an artist who focuses on sound as his primary medium. Building new instruments\, composing music\, designing sound sculptures\, and creating immersive installations\, his practice invites us to reconsider how we hear and listen. Miles is currently an Assistant Professor of Digital Music at University of Texas at San Antonio\, holds a DMA and MFA from Cornell University\, and an MA from the Eastman School of Music. \n 
URL:http://icmc2026.ligeti-zentrum.de/event/installation-miles-friday-breathwork-2/
LOCATION:Hamburg University of Technology\, Building A (Foyer)\, Am Schwarzenberg-Campus 1\, Hamburg\, 21073\, Germany
CATEGORIES:12-05,Installation
ORGANIZER;CN="ICMC HAMBURG 2026":MAILTO:info@icmc2026.ligeti-zentrum.de
END:VEVENT
BEGIN:VEVENT
DTSTART;TZID=Europe/Amsterdam:20260513T110000
DTEND;TZID=Europe/Amsterdam:20260513T180000
DTSTAMP:20260423T041222
CREATED:20260421T094018Z
LAST-MODIFIED:20260421T095138Z
UID:10000140-1778670000-1778695200@icmc2026.ligeti-zentrum.de
SUMMARY:Installation | Miles Friday: "Breathwork"
DESCRIPTION:Breathwork is a twelve-channel sound installation where loudspeakers become breathing bodies. Each loudspeaker is encased in an inflatable bag that swells and contracts in response to low-frequency drones\, forming a slow\, ever-shifting breath-like choreography. \nWithin this field of motion\, clouds of layered just intonation partials drift in and out of perception\, while low frequencies create a base of acoustic beating and Shepard tone-esque glissandos. By transforming the loudspeaker into a pneumatic pump\, Breathwork reimagines the loudspeaker as a tool for visual synthesis\, where vibrations in the air animate inflatables as kinetic sculptures—synthetic lungs whose movement create polyrhythms that can be both seen and heard. \nAll audio is generated live via SuperCollider and is running on two Bela Mini Multichannel Expanders. \nAbout the artist\nMiles Jefferson Friday is an artist who focuses on sound as his primary medium. Building new instruments\, composing music\, designing sound sculptures\, and creating immersive installations\, his practice invites us to reconsider how we hear and listen. Miles is currently an Assistant Professor of Digital Music at University of Texas at San Antonio\, holds a DMA and MFA from Cornell University\, and an MA from the Eastman School of Music. \n 
URL:http://icmc2026.ligeti-zentrum.de/event/installation-miles-friday-breathwork-3/
LOCATION:Hamburg University of Technology\, Building A (Foyer)\, Am Schwarzenberg-Campus 1\, Hamburg\, 21073\, Germany
CATEGORIES:13-05,Installation
ORGANIZER;CN="ICMC HAMBURG 2026":MAILTO:info@icmc2026.ligeti-zentrum.de
END:VEVENT
BEGIN:VEVENT
DTSTART;TZID=Europe/Amsterdam:20260514T110000
DTEND;TZID=Europe/Amsterdam:20260514T180000
DTSTAMP:20260423T041222
CREATED:20260421T095113Z
LAST-MODIFIED:20260421T095143Z
UID:10000136-1778756400-1778781600@icmc2026.ligeti-zentrum.de
SUMMARY:Installation: Miles Friday: "Breathwork"
DESCRIPTION:Breathwork is a twelve-channel sound installation where loudspeakers become breathing bodies. Each loudspeaker is encased in an inflatable bag that swells and contracts in response to low-frequency drones\, forming a slow\, ever-shifting breath-like choreography. \nWithin this field of motion\, clouds of layered just intonation partials drift in and out of perception\, while low frequencies create a base of acoustic beating and Shepard tone-esque glissandos. By transforming the loudspeaker into a pneumatic pump\, Breathwork reimagines the loudspeaker as a tool for visual synthesis\, where vibrations in the air animate inflatables as kinetic sculptures—synthetic lungs whose movement create polyrhythms that can be both seen and heard. \nAll audio is generated live via SuperCollider and is running on two Bela Mini Multichannel Expanders. \nAbout the artist\nMiles Jefferson Friday is an artist who focuses on sound as his primary medium. Building new instruments\, composing music\, designing sound sculptures\, and creating immersive installations\, his practice invites us to reconsider how we hear and listen. Miles is currently an Assistant Professor of Digital Music at University of Texas at San Antonio\, holds a DMA and MFA from Cornell University\, and an MA from the Eastman School of Music. \n 
URL:http://icmc2026.ligeti-zentrum.de/event/installation-miles-friday-breathwork-4/
LOCATION:Hamburg University of Technology\, Building A (Foyer)\, Am Schwarzenberg-Campus 1\, Hamburg\, 21073\, Germany
CATEGORIES:14-05,Installation
ORGANIZER;CN="ICMC HAMBURG 2026":MAILTO:info@icmc2026.ligeti-zentrum.de
END:VEVENT
END:VCALENDAR