BEGIN:VCALENDAR
VERSION:2.0
PRODID:-//ICMC HAMBURG 2026 - ECPv6.15.20//NONSGML v1.0//EN
CALSCALE:GREGORIAN
METHOD:PUBLISH
X-WR-CALNAME:ICMC HAMBURG 2026
X-ORIGINAL-URL:http://icmc2026.ligeti-zentrum.de
X-WR-CALDESC:Events for ICMC HAMBURG 2026
REFRESH-INTERVAL;VALUE=DURATION:PT1H
X-Robots-Tag:noindex
X-PUBLISHED-TTL:PT1H
BEGIN:VTIMEZONE
TZID:Europe/Amsterdam
BEGIN:DAYLIGHT
TZOFFSETFROM:+0100
TZOFFSETTO:+0200
TZNAME:CEST
DTSTART:20250330T010000
END:DAYLIGHT
BEGIN:STANDARD
TZOFFSETFROM:+0200
TZOFFSETTO:+0100
TZNAME:CET
DTSTART:20251026T010000
END:STANDARD
BEGIN:DAYLIGHT
TZOFFSETFROM:+0100
TZOFFSETTO:+0200
TZNAME:CEST
DTSTART:20260329T010000
END:DAYLIGHT
BEGIN:STANDARD
TZOFFSETFROM:+0200
TZOFFSETTO:+0100
TZNAME:CET
DTSTART:20261025T010000
END:STANDARD
BEGIN:DAYLIGHT
TZOFFSETFROM:+0100
TZOFFSETTO:+0200
TZNAME:CEST
DTSTART:20270328T010000
END:DAYLIGHT
BEGIN:STANDARD
TZOFFSETFROM:+0200
TZOFFSETTO:+0100
TZNAME:CET
DTSTART:20271031T010000
END:STANDARD
END:VTIMEZONE
BEGIN:VEVENT
DTSTART;VALUE=DATE:20260510
DTEND;VALUE=DATE:20260528
DTSTAMP:20260423T053825
CREATED:20260415T101343Z
LAST-MODIFIED:20260421T200939Z
UID:10000110-1778371200-1779926399@icmc2026.ligeti-zentrum.de
SUMMARY:[Off-ICMC] Installations and Performances: "Transition | Tension | Potential"
DESCRIPTION:Between platforms 3 and 4 at Harburg railway station\, the displays of the Kunstverein Harburger Bahnhof present materials and objects in transformation. They don’t show finished forms\, but processes and contradictions.  \nThe work is occasionally complemented by sound-based and performative interventions. It explores tension\, transitions\, and what emerges in between —between things\, within situations — and how this shapes the way we perceive the world.  \nOpen 24/7\nNo registration required  \n  \nThe Off-ICMC\nMusic is what brings us together\, even when everything else pulls us apart.\nMusic everywhere—it is part of our everyday lives. And yet\, we’re hearing it performed live on analog instruments less and less. Instead\, it often reaches us through speakers or headphones\, as files\, from the cloud. What does music mean to you? What does it sound like today? Where does it begin—and where does it end?\nThe ligeti center invites you to listen more closely and discover new sounds—to explore\, experiment\, and play. This year\, ICMC HAMBURG 2026 revives an old tradition: the Off-ICMC\, a free and accompanying festival curated for the general public and anyone curious about computer music. \nAll Off-ICMC events are free of charge.  \n\n  \n \n 
URL:http://icmc2026.ligeti-zentrum.de/event/off-icmc-installations-and-performances-transition-tension-potential/
LOCATION:Kunstverein Harburger Bahnhof\, Hannoversche Straße 85 (at the train station above platform 3&4)\, Hamburg\, 21079\, Germany
CATEGORIES:10-05,Off-ICMC
END:VEVENT
END:VCALENDAR