BEGIN:VCALENDAR
VERSION:2.0
PRODID:-//ICMC HAMBURG 2026 - ECPv6.15.20//NONSGML v1.0//EN
CALSCALE:GREGORIAN
METHOD:PUBLISH
X-WR-CALNAME:ICMC HAMBURG 2026
X-ORIGINAL-URL:http://icmc2026.ligeti-zentrum.de
X-WR-CALDESC:Events for ICMC HAMBURG 2026
REFRESH-INTERVAL;VALUE=DURATION:PT1H
X-Robots-Tag:noindex
X-PUBLISHED-TTL:PT1H
BEGIN:VTIMEZONE
TZID:Europe/Amsterdam
BEGIN:DAYLIGHT
TZOFFSETFROM:+0100
TZOFFSETTO:+0200
TZNAME:CEST
DTSTART:20250330T010000
END:DAYLIGHT
BEGIN:STANDARD
TZOFFSETFROM:+0200
TZOFFSETTO:+0100
TZNAME:CET
DTSTART:20251026T010000
END:STANDARD
BEGIN:DAYLIGHT
TZOFFSETFROM:+0100
TZOFFSETTO:+0200
TZNAME:CEST
DTSTART:20260329T010000
END:DAYLIGHT
BEGIN:STANDARD
TZOFFSETFROM:+0200
TZOFFSETTO:+0100
TZNAME:CET
DTSTART:20261025T010000
END:STANDARD
BEGIN:DAYLIGHT
TZOFFSETFROM:+0100
TZOFFSETTO:+0200
TZNAME:CEST
DTSTART:20270328T010000
END:DAYLIGHT
BEGIN:STANDARD
TZOFFSETFROM:+0200
TZOFFSETTO:+0100
TZNAME:CET
DTSTART:20271031T010000
END:STANDARD
END:VTIMEZONE
BEGIN:VEVENT
DTSTART;TZID=Europe/Amsterdam:20260511T090000
DTEND;TZID=Europe/Amsterdam:20260511T223000
DTSTAMP:20260422T144300
CREATED:20260415T130451Z
LAST-MODIFIED:20260421T142120Z
UID:10000074-1778490000-1778538600@icmc2026.ligeti-zentrum.de
SUMMARY:Paper Session 1a: History of Computer Music
DESCRIPTION:Three papers will be presented and discussed: \n\nHyunmook Lim\, The History of Japanese Electroacoustic Music for Piano from the Perspective of Media Genealogy\n\nPaulo C. Chagas\, Beyond Execution: Unrealizability and the Ontology of Sound in Computer Music\n\n\nAndrea Agostini\, Computer-Aided Composition: A Retrospective and Prospective Outlook\n\n\n 
URL:http://icmc2026.ligeti-zentrum.de/event/paper-session-1a-history-of-computer-music/
LOCATION:Hamburg University of Technology\, Building H\, Audimax 1\, Am Schwarzenberg-Campus 5\, Hamburg\, 21073\, Germany
CATEGORIES:11-05,Paper Session,Session
ORGANIZER;CN="ICMC HAMBURG 2026":MAILTO:info@icmc2026.ligeti-zentrum.de
END:VEVENT
BEGIN:VEVENT
DTSTART;TZID=Europe/Amsterdam:20260511T110000
DTEND;TZID=Europe/Amsterdam:20260511T123000
DTSTAMP:20260422T144300
CREATED:20260415T130523Z
LAST-MODIFIED:20260421T142158Z
UID:10000075-1778497200-1778502600@icmc2026.ligeti-zentrum.de
SUMMARY:Paper Session 1b: AI & Music
DESCRIPTION:Two papers will be presented and discussed: \n\nHiroshi Yamato\, OrbitScore\, A Domain-Specific Language for Polymetric Live Coding Based on Multilayered Temporal Structures\nYuan Zhang and Xinran Zhang\, Hexagram-Based Semantic Composition: Discretizing Embedding Spaces into Symbolic Compositional States for Improvised Performance\n\n 
URL:http://icmc2026.ligeti-zentrum.de/event/paper-session-1b-ai-music/
LOCATION:Hamburg University of Technology\, Building H\, Ditze Hörsaal (0.016)\, Am Schwarzenberg-Campus 5\, Hamburg\, 21073\, Germany
CATEGORIES:11-05,Paper Session,Session
ORGANIZER;CN="ICMC HAMBURG 2026":MAILTO:info@icmc2026.ligeti-zentrum.de
END:VEVENT
BEGIN:VEVENT
DTSTART;TZID=Europe/Amsterdam:20260511T110000
DTEND;TZID=Europe/Amsterdam:20260511T123000
DTSTAMP:20260422T144300
CREATED:20260415T131036Z
LAST-MODIFIED:20260421T142303Z
UID:10000128-1778497200-1778502600@icmc2026.ligeti-zentrum.de
SUMMARY:Paper Session 2: Music Information Retrieval
DESCRIPTION:Three papers will be presented and discussed:\n\n\n\nAxel Berndt\, Aida Amiryan-Stein\, Manuel Peters\, Meinard Müller and Stefan Balke\, ChoraleWind: An Expressive Wind-Quartet Dataset for End-to-End Rendering from the Neues Thüringer Choralbuch\n\n\n\nMário Pereira\, António Sá Pinto\, Treasa Harkin and Gilberto Bernardes\, Computational Analysis of Expressive Tempo in Irish Traditional Dance Music\n\n\nGilberto Bernardes\, Nádia Moura and António Sá Pinto\, Perpetual Dialogues: A Computational Analysis of Voice–Guitar Interaction in Carlos Paredes’s Discography\n\n 
URL:http://icmc2026.ligeti-zentrum.de/event/paper-session-2-music-information-retrieval/
LOCATION:Hamburg University of Technology\, Building H\, Ditze Hörsaal (0.016)\, Am Schwarzenberg-Campus 5\, Hamburg\, 21073\, Germany
CATEGORIES:11-05,Paper Session,Session
ORGANIZER;CN="ICMC HAMBURG 2026":MAILTO:info@icmc2026.ligeti-zentrum.de
END:VEVENT
BEGIN:VEVENT
DTSTART;TZID=Europe/Amsterdam:20260512T090000
DTEND;TZID=Europe/Amsterdam:20260512T103000
DTSTAMP:20260422T144300
CREATED:20260415T131848Z
LAST-MODIFIED:20260421T142352Z
UID:10000081-1778576400-1778581800@icmc2026.ligeti-zentrum.de
SUMMARY:Paper Session 3a: Music Notation & Representation I
DESCRIPTION:Three papers will be presented and discussed:\n  \n\nTianze Zhang\, Shingyui He and Lei Xuan\, CNN-BiLSTM Hybrid Model with Physical Constraints for Automatic Piano Fingering Generation\n\n\nJuan Carlos Vasquez and Zhonghao Chen\, Recursive Radiance: Multimedia Interpretations of\nTraditional Chinese Aesthetics \n\n\nRob Canning\, Scores That Run: Graphic Notation with Embedded Performance Semantics\n\n 
URL:http://icmc2026.ligeti-zentrum.de/event/paper-session-3a-music-notation-representation-i/
LOCATION:Hamburg University of Technology\, Building H\, Audimax 1\, Am Schwarzenberg-Campus 5\, Hamburg\, 21073\, Germany
CATEGORIES:12-05,Paper Session,Session
ORGANIZER;CN="ICMC HAMBURG 2026":MAILTO:info@icmc2026.ligeti-zentrum.de
END:VEVENT
BEGIN:VEVENT
DTSTART;TZID=Europe/Amsterdam:20260512T090000
DTEND;TZID=Europe/Amsterdam:20260512T223000
DTSTAMP:20260422T144300
CREATED:20260415T132257Z
LAST-MODIFIED:20260421T142516Z
UID:10000083-1778576400-1778625000@icmc2026.ligeti-zentrum.de
SUMMARY:Paper Session 3b: Physiological and Physical Foundations of Creative Systems I
DESCRIPTION:Three papers will be presented and discussed:\n  \n\nAmir Abbas Orouji\, Ayoub Banoushi and Gilberto Bernardes\, Vibrational Analysis of Traditional Persian Kamanche Sound Box: Experimental and Computational Investigation of Structural Modifications\n\nNikolaus Knop\, Ponticello: An Interactive Conducting System for Mixed Music Performance\n\nRuby Crocker\, Lucas Ong and George\, Fazekas Emotion-Based Film Music Retrieval with Handcrafted and Deep Models\n\n 
URL:http://icmc2026.ligeti-zentrum.de/event/paper-session-3b-physiological-physical-foundations-creative-solutions/
LOCATION:Hamburg University of Technology\, Building H\, Ditze Hörsaal (0.016)\, Am Schwarzenberg-Campus 5\, Hamburg\, 21073\, Germany
CATEGORIES:12-05,Paper Session,Session
ORGANIZER;CN="ICMC HAMBURG 2026":MAILTO:info@icmc2026.ligeti-zentrum.de
END:VEVENT
BEGIN:VEVENT
DTSTART;TZID=Europe/Amsterdam:20260512T110000
DTEND;TZID=Europe/Amsterdam:20260512T123000
DTSTAMP:20260422T144300
CREATED:20260415T132858Z
LAST-MODIFIED:20260421T142608Z
UID:10000080-1778583600-1778589000@icmc2026.ligeti-zentrum.de
SUMMARY:Paper Session 4a: Music Notation & Representation II
DESCRIPTION:Three papers will be presented and discussed:\n  \n\nRodrigo Cadiz\, Composer-in-the-Loop Generation of Motivic Variants Using State-Space Models and Preference Learning\n\nSolomiya Moroz\, Nicolo Merendino and Massimo Sterlino\, Co-Composing with Plants: Early Experiments in Bio-Responsive Score Design\n\nOrm Finnendahl\, DSP and the Metalevel: Program-name – an integrated environment for algorithmic composition and interctive realtime performance
URL:http://icmc2026.ligeti-zentrum.de/event/paper-session-4a-music-notation-representation-ii/
LOCATION:Hamburg University of Technology\, Building H\, Audimax 1\, Am Schwarzenberg-Campus 5\, Hamburg\, 21073\, Germany
CATEGORIES:12-05,Paper Session,Session
ORGANIZER;CN="ICMC HAMBURG 2026":MAILTO:info@icmc2026.ligeti-zentrum.de
END:VEVENT
BEGIN:VEVENT
DTSTART;TZID=Europe/Amsterdam:20260512T110000
DTEND;TZID=Europe/Amsterdam:20260512T123000
DTSTAMP:20260422T144300
CREATED:20260415T133949Z
LAST-MODIFIED:20260421T142713Z
UID:10000129-1778583600-1778589000@icmc2026.ligeti-zentrum.de
SUMMARY:Paper Session 4b: Physiological and Physical Foundations of Creative Systems II
DESCRIPTION:Three papers will be presented and discussed:\n  \n\nRolf Bader and Simon Linke\, Impulse Pattern Formulation (IPF) Brain and Larynx Model as a Co-Musician Sound Synthesis Method\n\nTim Ziemer\, Mel-Frequency Cepstral Coefficients and Recording Studio Features for the Analysis of Producer-Driven Music\n\nSimon Linke\, Rolf Bader and Robert Mores\, Designing responsive rhythms utilizing the Impulse Pattern Formulation (IPF)\n\n 
URL:http://icmc2026.ligeti-zentrum.de/event/paper-session-4b-physiological-and-physical-foundations-of-creative-systems-ii/
LOCATION:Hamburg University of Technology\, Building H\, Ditze Hörsaal (0.016)\, Am Schwarzenberg-Campus 5\, Hamburg\, 21073\, Germany
CATEGORIES:12-05,Paper Session,Session
ORGANIZER;CN="ICMC HAMBURG 2026":MAILTO:info@icmc2026.ligeti-zentrum.de
END:VEVENT
BEGIN:VEVENT
DTSTART;TZID=Europe/Amsterdam:20260513T090000
DTEND;TZID=Europe/Amsterdam:20260513T103000
DTSTAMP:20260422T144300
CREATED:20260415T133500Z
LAST-MODIFIED:20260421T134747Z
UID:10000082-1778662800-1778668200@icmc2026.ligeti-zentrum.de
SUMMARY:Paper Session 5b: AI & Machine Learning I
DESCRIPTION:Three papers will be presented and discussed:\n\n  \n\nJeff Kaiser and Gregory Taylor\, Building Loopers\n\nNicolas Brochec and Jean-Louis Giavitto\, Automatic Following of Flute Playing Techniques for Real-Time Mixed Music: A Case Study with Antescofo and ipt~\n\nMinami Kojima\, Takayuki Itoh and Rafael Ramirez\, Factor Analysis of Similarity in the Same Orchestral Piece\n\n 
URL:http://icmc2026.ligeti-zentrum.de/event/paper-session-5b-ai-machine-learning-i/
LOCATION:Hamburg University of Technology\, Building H\, Ditze Hörsaal (0.016)\, Am Schwarzenberg-Campus 5\, Hamburg\, 21073\, Germany
CATEGORIES:13-05,Paper Session,Session
ORGANIZER;CN="ICMC HAMBURG 2026":MAILTO:info@icmc2026.ligeti-zentrum.de
END:VEVENT
BEGIN:VEVENT
DTSTART;TZID=Europe/Amsterdam:20260513T090000
DTEND;TZID=Europe/Amsterdam:20260513T103000
DTSTAMP:20260422T144300
CREATED:20260421T141908Z
LAST-MODIFIED:20260421T141908Z
UID:10000172-1778662800-1778668200@icmc2026.ligeti-zentrum.de
SUMMARY:Paper Session 5b: AI & Machine Learning I
DESCRIPTION:Three papers will be presented and discussed:  \n  \n\nJeff Kaiser and Gregory Taylor\, Building Loopers\nNicolas Brochec and Jean-Louis Giavitto\, Automatic Hybrid Following in Real-Time Mixed Music: A Case Study with Antescofo and ipt~ for Flute Playing Techniques\nMinami Kojima\, Takayuki Itoh and Rafael Ramirez\, Factor Analysis of Similarity in the Same Orchestral Piece
URL:http://icmc2026.ligeti-zentrum.de/event/paper-session-5b-ai-machine-learning-i-2/
LOCATION:Hamburg University of Technology\, Building H\, Ditze Hörsaal (0.016)\, Am Schwarzenberg-Campus 5\, Hamburg\, 21073\, Germany
CATEGORIES:13-05,Paper Session,Session
ORGANIZER;CN="ICMC HAMBURG 2026":MAILTO:info@icmc2026.ligeti-zentrum.de
END:VEVENT
BEGIN:VEVENT
DTSTART;TZID=Europe/Amsterdam:20260513T090000
DTEND;TZID=Europe/Amsterdam:20260513T223000
DTSTAMP:20260422T144300
CREATED:20260415T134754Z
LAST-MODIFIED:20260421T142806Z
UID:10000130-1778662800-1778711400@icmc2026.ligeti-zentrum.de
SUMMARY:Paper Session 5a: Novel Concepts in 3D Audio including Wireless Multi-Channel Audio as well as Physical
DESCRIPTION:Three papers will be presented and discussed:\n\n  \n\n\nLaura Call Gomez\, Gabriel Decker\, Jayson Faupel\, Aditya Rajesh Pawar\, Jacob Westerstahl and Henrik von Coler\, BIKES: A Mobile Networked Music Instrument in Interdisciplinary Research and Education\n\n\nTeresa Carrasco\, Spatial Listening: perceptual\, phenomenological and participative perspectives across sonic disciplines\n\nMauro Cantonetti\, Paolo Malpeli and Alessandro Anatrini\, MetaConcert: A Shared VR Audio-Visual Experience Model Reducing User Isolation Through Synchronized 360 Video on HMDs and HOA Playback on a Multichannel Dome\n\n 
URL:http://icmc2026.ligeti-zentrum.de/event/paper-session-5a-novel-concepts-in-3d-audio-including-wireless-multi-channel-audio-as-well-as-physical/
LOCATION:Hamburg University of Technology\, Building H\, Audimax 1\, Am Schwarzenberg-Campus 5\, Hamburg\, 21073\, Germany
CATEGORIES:13-05,Paper Session,Session
ORGANIZER;CN="ICMC HAMBURG 2026":MAILTO:info@icmc2026.ligeti-zentrum.de
END:VEVENT
BEGIN:VEVENT
DTSTART;TZID=Europe/Amsterdam:20260513T110000
DTEND;TZID=Europe/Amsterdam:20260513T123000
DTSTAMP:20260422T144300
CREATED:20260415T134319Z
LAST-MODIFIED:20260421T134949Z
UID:10000084-1778670000-1778675400@icmc2026.ligeti-zentrum.de
SUMMARY:Paper Session 6b: AI & Machine Learning II
DESCRIPTION:Three papers will be presented and discussed:\n\n  \n\nGiovanni Roma and Alba Francesca Battista\, Supervised Memory: How Machines Can Preserve What We Cannot Hold\n\nAbhirup Saha\, Hans-Ulrich Berendes\, Meinard Müller\, and Ben Maman\, Snapping Matters: Context-Aware Onset Refinement for Automatic Music Transcription \n\nYu Foon Darin Chau and Andrew Horner\, Classical Music Mashup System and Compatibility Heuristics
URL:http://icmc2026.ligeti-zentrum.de/event/paper-session-6b-ai-machine-learning-ii/
LOCATION:Hamburg University of Technology\, Building H\, Ditze Hörsaal (0.016)\, Am Schwarzenberg-Campus 5\, Hamburg\, 21073\, Germany
CATEGORIES:13-05,Paper Session,Session
ORGANIZER;CN="ICMC HAMBURG 2026":MAILTO:info@icmc2026.ligeti-zentrum.de
END:VEVENT
BEGIN:VEVENT
DTSTART;TZID=Europe/Amsterdam:20260513T110000
DTEND;TZID=Europe/Amsterdam:20260513T123000
DTSTAMP:20260422T144300
CREATED:20260415T140923Z
LAST-MODIFIED:20260421T135130Z
UID:10000131-1778670000-1778675400@icmc2026.ligeti-zentrum.de
SUMMARY:Paper Session 6a: Immersive Media & 3D Audio
DESCRIPTION:Three papers will be presented and discussed:\n\n  \n\nFelipe Otondo and Leonardo Santos\, Listening Across Spaces: Perceptual Evaluation of an Ambisonics-Based Sound Installation\n\nYu Chia Kuo\, Tree Rings: Ecological Memory and Linguistic Traces in an Immersive Dome Composition\n\nPiero Poli\, Dancing Cabiria: An hyper-environment study through corpus-based techniques\n\n 
URL:http://icmc2026.ligeti-zentrum.de/event/paper-session-6a-immersive-media-3d-audio/
LOCATION:Hamburg University of Technology\, Building H\, Audimax 1\, Am Schwarzenberg-Campus 5\, Hamburg\, 21073\, Germany
CATEGORIES:13-05,Paper Session,Session
ORGANIZER;CN="ICMC HAMBURG 2026":MAILTO:info@icmc2026.ligeti-zentrum.de
END:VEVENT
BEGIN:VEVENT
DTSTART;TZID=Europe/Amsterdam:20260514T090000
DTEND;TZID=Europe/Amsterdam:20260514T103000
DTSTAMP:20260422T144300
CREATED:20260415T141924Z
LAST-MODIFIED:20260422T102958Z
UID:10000214-1778749200-1778754600@icmc2026.ligeti-zentrum.de
SUMMARY:Paper Session 7a: Signal Processing I
DESCRIPTION:Three papers will be presented and discussed:\n\n  \n\nNeal Anderson and Sanjay Majumder\, MBHD: A Modular Audio Playback and Manipulation System for Loop-Based Performance \n\nSam Pluta and Ted Moore\, The MMMAudio Computer Music Environment\n\nJeremy Hyrkas\, Vibrato Matching for Modulation Control and Blending in Sound Mixtures\n\n 
URL:http://icmc2026.ligeti-zentrum.de/event/paper-session-7a-signal-processing-i-2-2/
LOCATION:Hamburg University of Technology\, Building H\, Audimax 1\, Am Schwarzenberg-Campus 5\, Hamburg\, 21073\, Germany
CATEGORIES:14-05,Paper Session,Session
ORGANIZER;CN="ICMC HAMBURG 2026":MAILTO:info@icmc2026.ligeti-zentrum.de
END:VEVENT
BEGIN:VEVENT
DTSTART;TZID=Europe/Amsterdam:20260514T090000
DTEND;TZID=Europe/Amsterdam:20260514T103000
DTSTAMP:20260422T144300
CREATED:20260415T141924Z
LAST-MODIFIED:20260422T103044Z
UID:10000216-1778749200-1778754600@icmc2026.ligeti-zentrum.de
SUMMARY:Paper Session 7a: Signal Processing I
DESCRIPTION:Three papers will be presented and discussed:\n\n  \n\nNeal Anderson and Sanjay Majumder\, MBHD: A Modular Audio Playback and Manipulation System for Loop-Based Performance \n\nSam Pluta and Ted Moore\, The MMMAudio Computer Music Environment\n\nJeremy Hyrkas\, Vibrato Matching for Modulation Control and Blending in Sound Mixtures\n\n 
URL:http://icmc2026.ligeti-zentrum.de/event/paper-session-7a-signal-processing-i-2-2-2/
LOCATION:Hamburg University of Technology\, Building H\, Audimax 1\, Am Schwarzenberg-Campus 5\, Hamburg\, 21073\, Germany
CATEGORIES:14-05,Paper Session,Session
ORGANIZER;CN="ICMC HAMBURG 2026":MAILTO:info@icmc2026.ligeti-zentrum.de
END:VEVENT
BEGIN:VEVENT
DTSTART;TZID=Europe/Amsterdam:20260514T090000
DTEND;TZID=Europe/Amsterdam:20260514T103000
DTSTAMP:20260422T144300
CREATED:20260415T141924Z
LAST-MODIFIED:20260422T102605Z
UID:10000212-1778749200-1778754600@icmc2026.ligeti-zentrum.de
SUMMARY:Paper Session 7a: Signal Processing I
DESCRIPTION:Three papers will be presented and discussed:\n\n  \n\nNeal Anderson and Sanjay Majumder\, MBHD: A Modular Audio Playback and Manipulation System for Loop-Based Performance \n\nSam Pluta and Ted Moore\, The MMMAudio Computer Music Environment\n\nJeremy Hyrkas\, Vibrato Matching for Modulation Control and Blending in Sound Mixtures\n\n 
URL:http://icmc2026.ligeti-zentrum.de/event/paper-session-7a-signal-processing-i-2/
LOCATION:Hamburg University of Technology\, Building H\, Audimax 1\, Am Schwarzenberg-Campus 5\, Hamburg\, 21073\, Germany
CATEGORIES:14-05,Paper Session,Session
ORGANIZER;CN="ICMC HAMBURG 2026":MAILTO:info@icmc2026.ligeti-zentrum.de
END:VEVENT
BEGIN:VEVENT
DTSTART;TZID=Europe/Amsterdam:20260514T090000
DTEND;TZID=Europe/Amsterdam:20260514T223000
DTSTAMP:20260422T144300
CREATED:20260415T141300Z
LAST-MODIFIED:20260422T102716Z
UID:10000213-1778749200-1778797800@icmc2026.ligeti-zentrum.de
SUMMARY:Paper Session 7b: Interactive Media
DESCRIPTION:Three papers will be presented and discussed:\n\n  \n\n\nAdriano C. Monteiro and Rafaela B. Pires\, Exploring DIY Cassava-Starch Bioplastic Interfaces with EFT-Based Touch Sensing in an Interactive Sound Installation\n\n\nGuanjun Qin and Yunxuan Jia\,  Reimagining Athletic Gesture: Transforming Basketball Sound into Narrative Electroacoustic Music\n\nSitong Wu and Jinshuo Feng\, Gestalt: A Symbiotic Framework for Real-Time Collaboration  between Performers and Mass Audiences\n\n 
URL:http://icmc2026.ligeti-zentrum.de/event/paper-session-7b-interactive-media-2/
LOCATION:Hamburg University of Technology\, Building H\, Ditze Hörsaal (0.016)\, Am Schwarzenberg-Campus 5\, Hamburg\, 21073\, Germany
CATEGORIES:14-05,Paper Session,Session
ORGANIZER;CN="ICMC HAMBURG 2026":MAILTO:info@icmc2026.ligeti-zentrum.de
END:VEVENT
BEGIN:VEVENT
DTSTART;TZID=Europe/Amsterdam:20260514T090000
DTEND;TZID=Europe/Amsterdam:20260514T223000
DTSTAMP:20260422T144300
CREATED:20260415T141300Z
LAST-MODIFIED:20260422T103154Z
UID:10000217-1778749200-1778797800@icmc2026.ligeti-zentrum.de
SUMMARY:Paper Session 7b: Interactive Media
DESCRIPTION:Three papers will be presented and discussed:\n\n  \n\n\nAdriano C. Monteiro and Rafaela B. Pires\, Exploring DIY Cassava-Starch Bioplastic Interfaces with EFT-Based Touch Sensing in an Interactive Sound Installation\n\n\nGuanjun Qin and Yunxuan Jia\,  Reimagining Athletic Gesture: Transforming Basketball Sound into Narrative Electroacoustic Music\n\nSitong Wu and Jinshuo Feng\, Gestalt: A Symbiotic Framework for Real-Time Collaboration  between Performers and Mass Audiences\n\n 
URL:http://icmc2026.ligeti-zentrum.de/event/paper-session-7b-interactive-media-2-2/
LOCATION:Hamburg University of Technology\, Building H\, Ditze Hörsaal (0.016)\, Am Schwarzenberg-Campus 5\, Hamburg\, 21073\, Germany
CATEGORIES:14-05,Paper Session,Session
ORGANIZER;CN="ICMC HAMBURG 2026":MAILTO:info@icmc2026.ligeti-zentrum.de
END:VEVENT
BEGIN:VEVENT
DTSTART;TZID=Europe/Amsterdam:20260514T110000
DTEND;TZID=Europe/Amsterdam:20260514T123000
DTSTAMP:20260422T144300
CREATED:20260415T141437Z
LAST-MODIFIED:20260421T135915Z
UID:10000092-1778756400-1778761800@icmc2026.ligeti-zentrum.de
SUMMARY:Paper Session 8: Signal Processing II
DESCRIPTION:Three papers will be presented and discussed:\n\n  \n\n\nAlexandre Francois\, Real-Time\, Low-Latency\, High Resolution Audio Spectral Analysis: Phase Matters\n\nRobert Esler\, Pd++: A C++ Library of Pure Data’s DSP Objects\n\nTian Cheng\, Tomoyasu Nakano and Masataka Goto\, Exploring Masked CE Losses to Enhance Word Offset\nEstimation in CTC-based Lyrics-to-Audio Alignment\n\n\n 
URL:http://icmc2026.ligeti-zentrum.de/event/paper-session-signal-processing-ii/
LOCATION:Hamburg University of Technology\, Building H\, Audimax 1\, Am Schwarzenberg-Campus 5\, Hamburg\, 21073\, Germany
CATEGORIES:14-05,Paper Session,Session
ORGANIZER;CN="ICMC HAMBURG 2026":MAILTO:info@icmc2026.ligeti-zentrum.de
END:VEVENT
BEGIN:VEVENT
DTSTART;TZID=Europe/Amsterdam:20260515T090000
DTEND;TZID=Europe/Amsterdam:20260515T103000
DTSTAMP:20260422T144300
CREATED:20260415T142150Z
LAST-MODIFIED:20260421T140426Z
UID:10000098-1778835600-1778841000@icmc2026.ligeti-zentrum.de
SUMMARY:Paper Session 9: Music & Health
DESCRIPTION:Two papers will be presented and discussed:\n\n  \n\n\nSophie Rose\, CALM: Translating Somatic Experience into Compositional Structure as a Trauma-Informed Methodology\n\nYunze Mu\, Lorna Segall and Zhixin Xu\, Acoustic Interactive Sand Tray Therapy System: An Em-bodied Interface for Multisensory Sound Interaction
URL:http://icmc2026.ligeti-zentrum.de/event/paper-session-9-music-health/
LOCATION:Hamburg University of Technology\, Building H\, Audimax 1\, Am Schwarzenberg-Campus 5\, Hamburg\, 21073\, Germany
CATEGORIES:14-05,Paper Session,Session
ORGANIZER;CN="ICMC HAMBURG 2026":MAILTO:info@icmc2026.ligeti-zentrum.de
END:VEVENT
BEGIN:VEVENT
DTSTART;TZID=Europe/Amsterdam:20260515T090000
DTEND;TZID=Europe/Amsterdam:20260515T103000
DTSTAMP:20260422T144300
CREATED:20260415T142419Z
LAST-MODIFIED:20260421T140704Z
UID:10000099-1778835600-1778841000@icmc2026.ligeti-zentrum.de
SUMMARY:Paper Session 10b: Interactive Media II
DESCRIPTION:Three papers will be presented and discussed:\n\n  \n\nFabian Ostermann\, BbMuse: A Blackboard-Driven Framework for Real-Time Interactive Music\n\nEun Ji Oh\, Jun Woo Beck and Alexandria Smith\, The Singing Skin: An Audience-Centered Biofeedback System for Musical Interaction Based on Galvanic Skin Response\n\nPenelope Bekiari and Anastasia Georgaki\, Hyponoia: An Affective Computing System for Augmented Musical Performance — A Case Study\n\n 
URL:http://icmc2026.ligeti-zentrum.de/event/paper-session-10b-interactive-media/
LOCATION:Hamburg University of Technology\, Building H\, Ditze Hörsaal (0.016)\, Am Schwarzenberg-Campus 5\, Hamburg\, 21073\, Germany
CATEGORIES:15-05,Paper Session,Session
ORGANIZER;CN="ICMC HAMBURG 2026":MAILTO:info@icmc2026.ligeti-zentrum.de
END:VEVENT
BEGIN:VEVENT
DTSTART;TZID=Europe/Amsterdam:20260516T090000
DTEND;TZID=Europe/Amsterdam:20260516T103000
DTSTAMP:20260422T144300
CREATED:20260415T142737Z
LAST-MODIFIED:20260421T141024Z
UID:10000102-1778922000-1778927400@icmc2026.ligeti-zentrum.de
SUMMARY:Paper Session 11: Studio Reports I
DESCRIPTION:Three studio reports will be presented:\n\n  \n\nTakeyoshi Mori\, Studio Report: Laboratory of Advanced Music Production\, Senzoku Gakuen College of Music\n\n\nJosé Ricardo Barboza and Gilberto Bernardes\, Studio Report: A Third-Order Periphonic Ambisonics System\nfor Teaching and Research at the [removed]\n\n\nLudger Brümmer\, Götz Dipper and Dan Wilcox\, 20 Years Zirkonium and Klangdom at ZKM\n\n 
URL:http://icmc2026.ligeti-zentrum.de/event/paper-session-11-studio-reports-i/
CATEGORIES:16-05,Paper Session,Session
ORGANIZER;CN="ICMC HAMBURG 2026":MAILTO:info@icmc2026.ligeti-zentrum.de
END:VEVENT
BEGIN:VEVENT
DTSTART;TZID=Europe/Amsterdam:20260516T110000
DTEND;TZID=Europe/Amsterdam:20260516T123000
DTSTAMP:20260422T144300
CREATED:20260415T143012Z
LAST-MODIFIED:20260421T141234Z
UID:10000104-1778929200-1778934600@icmc2026.ligeti-zentrum.de
SUMMARY:Paper Session 12: Studio Reports
DESCRIPTION:Two studio reports will be presented:\n\n  \n\nHefang Ma\, Jingyu Luo\, Paul Francis\, Mara Helmuth\, Sangbong Nam and Wei-Huai Chen\, Studio Report: Center for Computer Music 2025–2026\n\n\nPedro Rebelo and Craig Jackson\, SARC Studio Report\n\n\n\n\n 
URL:http://icmc2026.ligeti-zentrum.de/event/paper-session-12-studio-reports-ii/
LOCATION:Hamburg University of Technology\, Building H\, Audimax 1\, Am Schwarzenberg-Campus 5\, Hamburg\, 21073\, Germany
CATEGORIES:16-05,Paper Session,Session
ORGANIZER;CN="ICMC HAMBURG 2026":MAILTO:info@icmc2026.ligeti-zentrum.de
END:VEVENT
END:VCALENDAR