BEGIN:VCALENDAR
VERSION:2.0
PRODID:-//ICMC 2026 – Hamburg - ECPv6.15.20//NONSGML v1.0//EN
CALSCALE:GREGORIAN
METHOD:PUBLISH
X-WR-CALNAME:ICMC 2026 – Hamburg
X-ORIGINAL-URL:http://icmc2026.ligeti-zentrum.de
X-WR-CALDESC:Events for ICMC 2026 – Hamburg
REFRESH-INTERVAL;VALUE=DURATION:PT1H
X-Robots-Tag:noindex
X-PUBLISHED-TTL:PT1H
BEGIN:VTIMEZONE
TZID:Europe/Amsterdam
BEGIN:DAYLIGHT
TZOFFSETFROM:+0100
TZOFFSETTO:+0200
TZNAME:CEST
DTSTART:20250330T010000
END:DAYLIGHT
BEGIN:STANDARD
TZOFFSETFROM:+0200
TZOFFSETTO:+0100
TZNAME:CET
DTSTART:20251026T010000
END:STANDARD
BEGIN:DAYLIGHT
TZOFFSETFROM:+0100
TZOFFSETTO:+0200
TZNAME:CEST
DTSTART:20260329T010000
END:DAYLIGHT
BEGIN:STANDARD
TZOFFSETFROM:+0200
TZOFFSETTO:+0100
TZNAME:CET
DTSTART:20261025T010000
END:STANDARD
BEGIN:DAYLIGHT
TZOFFSETFROM:+0100
TZOFFSETTO:+0200
TZNAME:CEST
DTSTART:20270328T010000
END:DAYLIGHT
BEGIN:STANDARD
TZOFFSETFROM:+0200
TZOFFSETTO:+0100
TZNAME:CET
DTSTART:20271031T010000
END:STANDARD
END:VTIMEZONE
BEGIN:VEVENT
DTSTART;TZID=Europe/Amsterdam:20260514T120000
DTEND;TZID=Europe/Amsterdam:20260514T140000
DTSTAMP:20260420T111554
CREATED:20260415T122311Z
LAST-MODIFIED:20260417T115252Z
UID:65367-1778760000-1778767200@icmc2026.ligeti-zentrum.de
SUMMARY:[Off-ICMC] Rehearsal & Concert Visit for Families
DESCRIPTION:Photo: Max Henschel\n  \nWhat does contemporary music sound like? What happens during the rehearsals? And what challenges might occur? We’ll look into these questions during rehearsal and concert visit for families.  \nFor families with children aged 7+\nRegistration required here \n  \nThe Off-ICMC\nMusic is what brings us together\, even when everything else pulls us apart.\nMusic everywhere—it is part of our everyday lives. And yet\, we’re hearing it performed live on analog instruments less and less. Instead\, it often reaches us through speakers or headphones\, as files\, from the cloud. What does music mean to you? What does it sound like today? Where does it begin—and where does it end?\nThe ligeti center invites you to listen more closely and discover new sounds—to explore\, experiment\, and play. This year\, ICMC HAMBURG 2026 revives an old tradition: the Off-ICMC\, a free and accompanying festival curated for the general public and anyone curious about computer music. \nAll Off-ICMC events are free of charge.  \n\n  \n \n 
URL:http://icmc2026.ligeti-zentrum.de/event/off-icmc-rehearsal-concert-visit-for-families/
LOCATION:Hamburg University of Technology (TUHH)\, Am Schwarzenberg-Campus 5\, Hamburg\, 21073\, Germany
CATEGORIES:14-05,Music,Off-ICMC
END:VEVENT
BEGIN:VEVENT
DTSTART;TZID=Europe/Amsterdam:20260514T180000
DTEND;TZID=Europe/Amsterdam:20260514T190000
DTSTAMP:20260420T111554
CREATED:20260415T122709Z
LAST-MODIFIED:20260417T115316Z
UID:65369-1778781600-1778785200@icmc2026.ligeti-zentrum.de
SUMMARY:[Off-ICMC] Radioballett: Körperfunkkollektiv – Fragment
DESCRIPTION:Photo: Felix Konerding\n  \nRadioballett is an interactive performance that draws you into another world through wireless headphones\, where you and other participants can actively shape the space together.  \nThe piece “Fragment” explores the boundaries between private and public life through human experiences in both real and virtual worlds. It invites everyone to reflect on the balance between digital and “offline” existence and to engage with the interplay between social interaction and online networks. \nregistration required here \n  \nThe Off-ICMC\nMusic is what brings us together\, even when everything else pulls us apart.\nMusic everywhere—it is part of our everyday lives. And yet\, we’re hearing it performed live on analog instruments less and less. Instead\, it often reaches us through speakers or headphones\, as files\, from the cloud. What does music mean to you? What does it sound like today? Where does it begin—and where does it end?\nThe ligeti center invites you to listen more closely and discover new sounds—to explore\, experiment\, and play. This year\, ICMC HAMBURG 2026 revives an old tradition: the Off-ICMC\, a free and accompanying festival curated for the general public and anyone curious about computer music. \nAll Off-ICMC events are free of charge.  \n\n  \n \n 
URL:http://icmc2026.ligeti-zentrum.de/event/off-icmc-radioballet-korperfunkkollektiv-fragment/
LOCATION:Town Hall Square Harburg\, Harburger Rathausplatz 1\, Hamburg\, 21073\, Germany
CATEGORIES:14-05,Music,Off-ICMC
END:VEVENT
BEGIN:VEVENT
DTSTART;TZID=Europe/Amsterdam:20260515T183000
DTEND;TZID=Europe/Amsterdam:20260515T213000
DTSTAMP:20260420T111554
CREATED:20260415T122932Z
LAST-MODIFIED:20260417T115457Z
UID:65372-1778869800-1778880600@icmc2026.ligeti-zentrum.de
SUMMARY:[Off-ICMC] Sound Bar: "Sono\, ergo sum." – I sound\, therefore I am.
DESCRIPTION:Photo: Soundbar Kollektiv\n  \nThe Soundbar is a performative pop-up bar that brings together socializing\, drinks\, and jam sessions. It serves as a workshop and experimental space\, offering an environment for exploring sound\, finding inspiration\, and connecting with others. What does your favorite drink sound like? Join us for Soundbar’s vibrant sound journeys. Let your glasses sing and discover new levels of sensory experience at the bar.  no registration required \n  \nThe Off-ICMC\nMusic is what brings us together\, even when everything else pulls us apart.\nMusic everywhere—it is part of our everyday lives. And yet\, we’re hearing it performed live on analog instruments less and less. Instead\, it often reaches us through speakers or headphones\, as files\, from the cloud. What does music mean to you? What does it sound like today? Where does it begin—and where does it end?\nThe ligeti center invites you to listen more closely and discover new sounds—to explore\, experiment\, and play. This year\, ICMC HAMBURG 2026 revives an old tradition: the Off-ICMC\, a free and accompanying festival curated for the general public and anyone curious about computer music. \nAll Off-ICMC events are free of charge.  \n\n  \n \n 
URL:http://icmc2026.ligeti-zentrum.de/event/off-icmc-sound-bar-sono-ergo-sum-i-sound-therefore-i-am/
LOCATION:ligeti center\, Production Lab (10th floor)\, Veritaskai 1\, Hamburg\, 21079\, Germany
CATEGORIES:15-05,Music,Off-ICMC,Performance
END:VEVENT
BEGIN:VEVENT
DTSTART;TZID=Europe/Amsterdam:20260515T193000
DTEND;TZID=Europe/Amsterdam:20260515T203000
DTSTAMP:20260420T111554
CREATED:20260415T123232Z
LAST-MODIFIED:20260417T115504Z
UID:65374-1778873400-1778877000@icmc2026.ligeti-zentrum.de
SUMMARY:[Off-ICMC] Experimental Reading: Harburg. Das Buch – Excursions in Voice\, Photo & Music (German)
DESCRIPTION:Credits: Junius Verlag\n  \nAuthor Bärbel (Bascha) Wegner\, photographer Steven Haberland\, and musician Clarks Planet bring together text\, images\, and sound in a multi-layered exploration of the city of Harburg. Storytelling meets improvised music\, photographs interact with sound and field recordings.  \nThe familiar takes on new shapes\, improvisation unfolds—opening up fresh perspectives on the neighborhood\, not least from the vantage point of the Production Lab on the 10th floor.  \nIn German only.\nregistration required here \n  \nThe Off-ICMC\nMusic is what brings us together\, even when everything else pulls us apart.\nMusic everywhere—it is part of our everyday lives. And yet\, we’re hearing it performed live on analog instruments less and less. Instead\, it often reaches us through speakers or headphones\, as files\, from the cloud. What does music mean to you? What does it sound like today? Where does it begin—and where does it end?\nThe ligeti center invites you to listen more closely and discover new sounds—to explore\, experiment\, and play. This year\, ICMC HAMBURG 2026 revives an old tradition: the Off-ICMC\, a free and accompanying festival curated for the general public and anyone curious about computer music. \nAll Off-ICMC events are free of charge.  \n\n  \n \n 
URL:http://icmc2026.ligeti-zentrum.de/event/off-icmc-experimental-reading-harburg-das-buch-excursions-in-voice-photo-music-german/
LOCATION:ligeti center\, Production Lab (10th floor)\, Veritaskai 1\, Hamburg\, 21079\, Germany
CATEGORIES:15-05,Music,Off-ICMC,Performance
END:VEVENT
BEGIN:VEVENT
DTSTART;TZID=Europe/Amsterdam:20260516T110000
DTEND;TZID=Europe/Amsterdam:20260516T160000
DTSTAMP:20260420T111554
CREATED:20260415T123619Z
LAST-MODIFIED:20260417T115539Z
UID:65376-1778929200-1778947200@icmc2026.ligeti-zentrum.de
SUMMARY:[Off-ICMC] Workshop: Solder your very own synthesizer. An Introduction to Electronics and Soldering
DESCRIPTION:Photo: WorkINGLab TUHH\n  \nIn this workshop\, you’ll discover the basics of soldering and get hands-on experience soldering cables and various electronic components. It will leave you well-prepared for future soldering and repair projects. And the best part? By the end\, you’ll have a fully operational synthesizer that you built yourself!  \nFor adults and teens aged 15+\nregistration required here \n  \nThe Off-ICMC\nMusic is what brings us together\, even when everything else pulls us apart.\nMusic everywhere—it is part of our everyday lives. And yet\, we’re hearing it performed live on analog instruments less and less. Instead\, it often reaches us through speakers or headphones\, as files\, from the cloud. What does music mean to you? What does it sound like today? Where does it begin—and where does it end?\nThe ligeti center invites you to listen more closely and discover new sounds—to explore\, experiment\, and play. This year\, ICMC HAMBURG 2026 revives an old tradition: the Off-ICMC\, a free and accompanying festival curated for the general public and anyone curious about computer music. \nAll Off-ICMC events are free of charge.  \n\n  \n \n 
URL:http://icmc2026.ligeti-zentrum.de/event/off-icmc-workshop-solder-your-very-own-synthesizer-an-introduction-to-electronics-and-soldering/
LOCATION:Hamburg University of Technology\, WorkINGLab\, Eißendorfer Straße 40 Building N\, 2nd Floor\, Hamburg\, 21073\, Germany
CATEGORIES:16-05,Off-ICMC,Workshop
END:VEVENT
END:VCALENDAR