BEGIN:VCALENDAR
VERSION:2.0
PRODID:-//ICMC HAMBURG 2026 - ECPv6.15.20//NONSGML v1.0//EN
CALSCALE:GREGORIAN
METHOD:PUBLISH
X-ORIGINAL-URL:http://icmc2026.ligeti-zentrum.de
X-WR-CALDESC:Events for ICMC HAMBURG 2026
REFRESH-INTERVAL;VALUE=DURATION:PT1H
X-Robots-Tag:noindex
X-PUBLISHED-TTL:PT1H
BEGIN:VTIMEZONE
TZID:Europe/Amsterdam
BEGIN:DAYLIGHT
TZOFFSETFROM:+0100
TZOFFSETTO:+0200
TZNAME:CEST
DTSTART:20250330T010000
END:DAYLIGHT
BEGIN:STANDARD
TZOFFSETFROM:+0200
TZOFFSETTO:+0100
TZNAME:CET
DTSTART:20251026T010000
END:STANDARD
BEGIN:DAYLIGHT
TZOFFSETFROM:+0100
TZOFFSETTO:+0200
TZNAME:CEST
DTSTART:20260329T010000
END:DAYLIGHT
BEGIN:STANDARD
TZOFFSETFROM:+0200
TZOFFSETTO:+0100
TZNAME:CET
DTSTART:20261025T010000
END:STANDARD
BEGIN:DAYLIGHT
TZOFFSETFROM:+0100
TZOFFSETTO:+0200
TZNAME:CEST
DTSTART:20270328T010000
END:DAYLIGHT
BEGIN:STANDARD
TZOFFSETFROM:+0200
TZOFFSETTO:+0100
TZNAME:CET
DTSTART:20271031T010000
END:STANDARD
END:VTIMEZONE
BEGIN:VEVENT
DTSTART;TZID=Europe/Amsterdam:20260510T190000
DTEND;TZID=Europe/Amsterdam:20260510T220000
DTSTAMP:20260421T154119
CREATED:20260421T081038Z
LAST-MODIFIED:20260421T083915Z
UID:10000070-1778439600-1778450400@icmc2026.ligeti-zentrum.de
SUMMARY:Opening Concert
DESCRIPTION:Program Overview\nIntroduction \nAlexander Schubert – SCANNERS (2013)\nfor string quintet\, choreography\, and electronics (12 min) \nNicole Brady – Ricochet (World Premiere 2026)\nfor chamber orchestra (10 min) \nAnthony Paul De Ritis – Filters (2015 / 2026)\nfor alto saxophone\, string orchestra\, and live electronics (10 min) \nIntermission (25 min) \nAigerim Seilova / Steffen Lohrey – Breath Mechanics (World Premiere 2026)\nfor two soprano saxophones\, string ensemble\, and live electronics (10 min) \nClarence Barlow – Im Januar am Nil (1985)\nfor ensemble (approx. 25 min) \nShort break (10 min) \nClosing & Conference Information (15 min) \n  \nPerformers\nEnsemble Resonanz – strings\nAsya Fateyeva – saxophone\nVlatko Kučan – saxophone\nJohn Eckhardt – double bass\nDulguun Chinchuluun – piano\nLin Chen – percussion \nConductor\nFriederike Scheunchen \nFind out more about the musicians playing at ICMC HAMBURG 2026 here.  \n  \nAbout the pieces\nAlexander Schubert \nSCANNERS (2013)\nfor string quintet\, choreography\, and electronics \nThe piece SCANNERS copes with the physical qualities of instrumentalists in electro-acoustic music. It is a choreographed composition\, that takes movement as important as sound. The string ensemble turns into a performing machine. The main focus is on the movement of scanning – as well in the interaction of bow and instrument when producing sound as also in purely artificial gestures. There is no difference between musically necessary or choerographically determined mouvement. The piece can be seen as a comment on the relationship of man to digital content: the direct consequences of action can’t be explained by simple cause and effect principles any more\, the musicians become puppets or at least a part of a complex machine. At the same time the piece offers a special focus on the highly specialized genre of the string orchestra: the mechanizing emphasizes the accuracy of the interpreter and the elegance of the traditional movement\, here being staged independently from the production of sound.\nScanners belongs to a series of compositions that deal with physicality\, as there is e.g. Point Ones with interactive conductor or LaPlace Tiger with a sensor-wired drummer. \nAbout the composer\nAlexander Schubert (1979) studied bioinformatics\, multimedia composition. He’s a professor at the Musikhochschule Hamburg. Schubert’s interest explores the border between the acoustic and electronic world. In music composition\, immersive installation and staged pieces he examines the interplay between the digital and the analogue. He creates pieces that realize test settings or interaction spaces that question modes of perception and representation. Continuing topics in this field are authenticity and virtuality. The influence and framing of digital media on aesthetic views and communication is researched in a post-digital perspective. Recent research topics in his works were virtual reality\, artificial intelligence and online-mediated artworks. Schubert is a founding member of ensembles such as “Decoder“. His works have been performed more than 700 times in the last few years by numerous ensembles in over 30 countries. \n  \nNicole Brady \nRicochet (World Premiere 2026)\nfor chamber orchestra and live electronics \nRicochet explores the idea of deviation from an expected path after an initial impact\, leading to new directions. Inspired by the ricochet bowing technique\, this concept unfolds both physically and metaphorically within the ensemble.\nA responsive electronic system listens to the orchestra and generates a parallel sonic layer. Energetic passages produce scattered\, percussive textures\, while quieter material leads to dense\, sustained sound fields. The system alternates between listening and generative modes\, interacting closely with the performers.\nSubtle references to composers such as Couperin\, Ravel\, and Mozart connect historical material with contemporary sound\, while the electronics act as an additional\, autonomous voice within the ensemble. \nAbout the composer\nNicole Brady is an award-winning composer and creative director whose work spans concert music\, immersive installation\, and video game franchises including Final Fantasy\, Tekken\, and Valkyria Chronicles. Her work has been honoured by the Peabody Awards and IndieCade\, and her immersive sound album Lost Palace was released with the Royal Scottish National Orchestra. Recent commissions and performances include the Omega Ensemble\, Melbourne Symphony Orchestra\, Flinders Quartet\, and Lyris Quartet. As creative director of WLDR studio\, her immersive multisensory works have reached over 20\,000 participants across Illuminate Adelaide and Spier Light Art Festival. Nicole is a researcher at the Melbourne Conservatorium of Music and recipient of the Director’s Award for Exceptional Doctoral Research. \n  \nAnthony Paul De Ritis \nFilters (2015 / 2026)\nfor alto saxophone\, string orchestra\, and live electronics \nOriginally composed for alto saxophone and electronic playback\, Filters explores the layering and spatial diffusion of sound. Recorded saxophone material creates a “second” voice\, blending with the live soloist into a unified\, resonant field.\nIn this version for saxophone\, string orchestra\, and multi-channel electronics\, the ensemble extends these layers\, producing a rich interplay between live instruments and their electronically mediated “shadows.”\nThe solo saxophone remains at the expressive center\, while the surrounding textures generate depth\, movement\, and an immersive spatial experience. \nAbout the composer\nDescribed as a “genuinely American composer” (Gramophone)\, “a bit of a visionary” (Audiophile Audition)\, and “bracingly imaginative” (The Boston Globe)\, Anthony Paul De Ritis has received performances around the world\, including at Lincoln Center\, Beijing’s Yugong Yishan\, Seoul’s KT Art Hall\, the Italian Pavilion at the 2015 World Expo in Milan\, and UNESCO headquarters in Paris. \nDe Ritis’s 2012 release “Devolution” by the GRAMMY® Award-winning Boston Modern Orchestra Project\, featuring Paul D. Miller aka DJ Spooky as soloist\, was described as a “tour de force” (Gramophone); and his “Pop Concerto” (2017) featuring Eliot Fisk was lauded as “a major issue of American music\,” (Classical CD Review) and his “Electroacoustic Music – In Memoriam: David Wessel” (2018) was cited as among the “Best of 2018” in the electronic music category (Sequenza 21). \nHe holds a Ph.D. from the University of California\, Berkeley\, and is Professor at Northeastern University\, where he co-founded the music technology program. \n  \nAigerim Seilova / Steffen Lohrey \nBreath Mechanics (World Premiere 2026)\nfor two soprano saxophones\, string ensemble\, and live electronics \nThis work is a composition for two soprano saxophones\, string ensemble (4.4.4.2)\, and 8.1 live electronics\, submitted for the ICMC Special Call 1: Ensemble Resonanz . The piece serves as a spectral dialogue with Clarence Barlow’s Im Januar am Nil\, adopting his strategies of timbral fusion and hocketing but transposing them into the age of Machine Learning. The central material is derived from “ChordsNest\,” a multiphonics palette extension for MaxScore\, which is repurposed here as a training set for a neural network. The compositional core is an “AI Translation Error” in which the model was tasked with reconstructing the cylindrical bore spectra of the digital archive using the conical bore of the live saxophones and the acoustic textures of the string ensemble. \nThe resulting score is a transcription of the AI’s “hallucinations\,” where the ensemble physically replicates the digital artifacts of the style transfer process. The 8.1 electronics mediate this through a dual-role feedback loop. They function first as a synthesized “externalized memory” of the source spectra and secondly as a live inferencing engine that generates “retrospective hypotheses” by attempting to recover source-states from the acoustic performance. This architecture stages a recursive friction between the explicitly presented digital archive and the machine’s error-prone attempt to reconstruct it through physical sound. \nAbout the composers\nHamburg-based composer Aigerim Seilova integrates acoustics\, electronics\, and interactive media. A doctoral researcher at HfMT Hamburg\, her works are performed by Ensemble Modern and the Norwegian Radio Orchestra at festivals like Tanglewood and Chelsea Music Festival. Awards include the Hindemith Prize\, Leonard Bernstein Fellowship\, and Radio France Prize. She serves as Deputy Chair of the DKV Hamburg\, promoting contemporary music and interdisciplinary exchange. \nBorn in Gießen in 1987\, Steffen Lohrey studied Digital Media with a focus on sound in Darmstadt and Multimedia Composition at the Hamburg University of Music and Drama (HfMT Hamburg). His work exists at the intersection of composition\, installation\, and code. He has been involved in a wide range of projects\, including Picadero with the Haa Collective (presented at venues such as Deltebre Dansa and the Fusion Festival)\, Crawlers with Alexander Schubert (ZKM Karlsruhe)\, and Shibboleth by Aigerim Seilova at HfMT Hamburg. His work and collaborations have been featured at Blurred Edges\, the Teatre Principal Terrassa\, and the GREC Festival\, among others. In addition\, Steffen Lohrey works as an audio engineer and sound designer in Hamburg. \n  \nClarence Barlow  \nIm Januar am Nil (1984)\nfor 2 soprano saxophones (1st+clarinet\, bass clarinet)\, 4 violins\, 2 celli\, double bass\, piano\, percussion  \nIm Januar am Nil was written in 1981 for Ensemble Köln – the instrumentation: two soprano saxophones\, percussion (five Japanese temple bells\, a Korean gong\, a crotale\, a cymbal\, a side drum and a bass drum)\, a piano\, four violins\, two cellos and a double-bass. In 1984 the completely revised piece was premiered in Paris by Ensemble Itineraire.\nThrough the piece runs a constantly repeated melody\, increasing both in length and density – new tones appear in the expanding gaps\, first in a purely auxiliary function\, but gradually harmonically rivalling the older tones. A single note at the start develops into a flowing melody moving from transparent tonality through multitonality to a dense self-destructive atonality.\nAt first the melody is played almost inaudibly by the bass clarinet\, amplified by overtones heard as natural harmonics in the strings: the resultant timbre is phonetic\, based on a Fourier analysis of German sentences (as for instance the title itself) containing only harmonic spectra\, namely liquids\, nasals and semi-vowels. Ideally these “scored Fourier-synthesized” words should be comprehensible\, but an ensemble of seven strings can only be approximative. After a few minutes of bass clarinet and strings\, the piano enters in an explicit rendition of the melody\, developing it as described above and timbrally coloured by “hocketing” soprano saxophones. The double bass now also explicitly plays the melody without further developing it – in a “frozen” state it is contrasted with the piano part and slows down during further repetitions due to its increasing length. \nAbout the composer\nClarence Barlow (1945–2023) was a composer and pioneer of computer music\, born into the English-speaking minority of Calcutta (now Kolkata)\, India. He received his early education there\, studying piano\, music theory\, and natural sciences\, and began composing at the age of twelve. After graduating in science from the University of Calcutta in 1965\, he worked as a conductor and teacher of music theory at the Calcutta School of Music.\nIn 1968\, Barlow moved to Cologne\, where he studied composition and electronic music at the Hochschule für Musik\, alongside studies at the Institute of Sonology in Utrecht. During this period\, he began using computers as a compositional tool\, becoming one of the early figures to explore algorithmic and computer-assisted composition.\nFrom the 1980s onward\, Barlow played a central role in shaping the field of computer music. He was closely associated with the Darmstadt Summer Courses\, where he directed computer music activities for over a decade\, and was a co-founder of GIMIK (Initiative Musik und Informatik Köln). He also held numerous academic positions across Europe\, including at the Royal Conservatory in The Hague\, where he served as Professor of Composition and Sonology and later as Artistic Director of the Institute of Sonology.\nFrom 2006 until his retirement\, Barlow was Corwin Professor of Composition at the University of California\, Santa Barbara. His work is characterized by a unique synthesis of mathematical rigor\, cultural hybridity\, and innovative approaches to musical structure\, making him one of the most distinctive voices in contemporary music. \n 
URL:http://icmc2026.ligeti-zentrum.de/event/opening-concert/
LOCATION:Elphilharmonie Hamburg\, Recital Hall\, Platz der Deutschen Einheit\, Hamburg\, 20457\, Germany
CATEGORIES:10-05,Concert,Music,Special Event
ORGANIZER;CN="ICMC HAMBURG 2026":MAILTO:info@icmc2026.ligeti-zentrum.de
END:VEVENT
BEGIN:VEVENT
DTSTART;TZID=Europe/Amsterdam:20260511T133000
DTEND;TZID=Europe/Amsterdam:20260511T153000
DTSTAMP:20260421T154119
CREATED:20260421T084731Z
LAST-MODIFIED:20260421T084731Z
UID:10000077-1778506200-1778513400@icmc2026.ligeti-zentrum.de
SUMMARY:Concert 1A
DESCRIPTION:Program Overview\n  \nTyche\nSever Tipei (Bb clarinet\, Esther Lamneck\, performer) \nAIKYAM\nClaudia Robles Angel\n(1 performer (actor) + 5 to 6 members of the audience) \nHOTPO\nMichael Edwards (Saxphone) 11th or 12th \nTessellae\nRodrigo Cadiz (11th only) percussionist Thierry Miroglio\,\n(Percussionist Thierry Miroglio and electronics) \nThe Center of the Universe\nSunhuimei Xia and Sunhuimei Xia\n(Live electronic works\, electronic performer)
URL:http://icmc2026.ligeti-zentrum.de/event/concert-1a/
LOCATION:Hamburg University of Technology\, Audimax 2\, Denickestraße 22\, Hamburg\, 21073\, Germany
CATEGORIES:11-05,Concert,Music
ORGANIZER;CN="ICMC HAMBURG 2026":MAILTO:info@icmc2026.ligeti-zentrum.de
END:VEVENT
BEGIN:VEVENT
DTSTART;TZID=Europe/Amsterdam:20260511T180000
DTEND;TZID=Europe/Amsterdam:20260511T190000
DTSTAMP:20260421T154119
CREATED:20260415T101813Z
LAST-MODIFIED:20260417T114349Z
UID:10000114-1778522400-1778526000@icmc2026.ligeti-zentrum.de
SUMMARY:[Off-ICMC] Concert: Nenad Nikolić – Accordeon meets Techno
DESCRIPTION:Photo: Boris Las Opolski\n  \nNenad Nikolić was born in Serbia and has always been fascinated by his father and grandfather’s accordion playing. But mechanical sounds are from the past. Nenad plays without backing tracks\, performing every single tone live—from “tango to techno.” Don’t miss this chance to see him push the boundaries of his instrument with his electronic accordion.  \nNo registration required  \n  \nThe Off-ICMC\nMusic is what brings us together\, even when everything else pulls us apart.\nMusic everywhere—it is part of our everyday lives. And yet\, we’re hearing it performed live on analog instruments less and less. Instead\, it often reaches us through speakers or headphones\, as files\, from the cloud. What does music mean to you? What does it sound like today? Where does it begin—and where does it end?\nThe ligeti center invites you to listen more closely and discover new sounds—to explore\, experiment\, and play. This year\, ICMC HAMBURG 2026 revives an old tradition: the Off-ICMC\, a free and accompanying festival curated for the general public and anyone curious about computer music. \nAll Off-ICMC events are free of charge.  \n\n  \n \n 
URL:http://icmc2026.ligeti-zentrum.de/event/off-icmc-concert-nenad-nikolic-accordeon-meets-techno/
LOCATION:Harburg Info\, Hölertwiete 6\, Hamburg\, 21073\, Germany
CATEGORIES:11-05,Music,Off-ICMC
END:VEVENT
BEGIN:VEVENT
DTSTART;TZID=Europe/Amsterdam:20260511T190000
DTEND;TZID=Europe/Amsterdam:20260511T210000
DTSTAMP:20260421T154119
CREATED:20260421T085527Z
LAST-MODIFIED:20260421T085653Z
UID:10000079-1778526000-1778533200@icmc2026.ligeti-zentrum.de
SUMMARY:Concert 1B
DESCRIPTION:Program Overview\nFantasy for Viola and Computer\nRichard Dudas \nNeuro Translation Engine\nVincenzo Russo \nClimate II for piano and computer \nRikako Kabashima \nWind Blown Rain\nMara Helmuth et al. \nDelicate Anticipation\nKotoka Suzuki \nAir-Carving Bamboo\nYu Chung Tseng
URL:http://icmc2026.ligeti-zentrum.de/event/concert-1b/
LOCATION:Friedrich-Ebert-Halle\, Alter Postweg 34\, Hamburg\, 21075\, Germany
CATEGORIES:11-05,Concert,Music
ORGANIZER;CN="ICMC HAMBURG 2026":MAILTO:info@icmc2026.ligeti-zentrum.de
END:VEVENT
BEGIN:VEVENT
DTSTART;TZID=Europe/Amsterdam:20260513T193000
DTEND;TZID=Europe/Amsterdam:20260513T210000
DTSTAMP:20260421T154119
CREATED:20260415T121938Z
LAST-MODIFIED:20260417T115050Z
UID:10000121-1778700600-1778706000@icmc2026.ligeti-zentrum.de
SUMMARY:[Off-ICMC] Concert: Florentin Ginot – Disturbance
DESCRIPTION:Photo: Florentin Ginot\n  \n“Disturbance” is an audiovisual solo performance that blends elements of concert\, video art\, and theater. With his double bass and analog synthesizers\, Florentin Ginot invites the audience on a live nocturnal journey. Past and present collide with ghostly glitches and pulsating electronic rhythms.  \nregistration required here \n  \nThe Off-ICMC\nMusic is what brings us together\, even when everything else pulls us apart.\nMusic everywhere—it is part of our everyday lives. And yet\, we’re hearing it performed live on analog instruments less and less. Instead\, it often reaches us through speakers or headphones\, as files\, from the cloud. What does music mean to you? What does it sound like today? Where does it begin—and where does it end?\nThe ligeti center invites you to listen more closely and discover new sounds—to explore\, experiment\, and play. This year\, ICMC HAMBURG 2026 revives an old tradition: the Off-ICMC\, a free and accompanying festival curated for the general public and anyone curious about computer music. \nAll Off-ICMC events are free of charge.  \n\n  \n \n 
URL:http://icmc2026.ligeti-zentrum.de/event/off-icmc-concert-florentin-ginot-disturbance/
LOCATION:Stellwerk Hamburg\, Hannoversche Straße 85\, Hamburg\, 21079\, Germany
CATEGORIES:13-05,Concert,Music,Off-ICMC
END:VEVENT
BEGIN:VEVENT
DTSTART;TZID=Europe/Amsterdam:20260514T120000
DTEND;TZID=Europe/Amsterdam:20260514T140000
DTSTAMP:20260421T154119
CREATED:20260415T122311Z
LAST-MODIFIED:20260417T115252Z
UID:10000122-1778760000-1778767200@icmc2026.ligeti-zentrum.de
SUMMARY:[Off-ICMC] Rehearsal & Concert Visit for Families
DESCRIPTION:Photo: Max Henschel\n  \nWhat does contemporary music sound like? What happens during the rehearsals? And what challenges might occur? We’ll look into these questions during rehearsal and concert visit for families.  \nFor families with children aged 7+\nRegistration required here \n  \nThe Off-ICMC\nMusic is what brings us together\, even when everything else pulls us apart.\nMusic everywhere—it is part of our everyday lives. And yet\, we’re hearing it performed live on analog instruments less and less. Instead\, it often reaches us through speakers or headphones\, as files\, from the cloud. What does music mean to you? What does it sound like today? Where does it begin—and where does it end?\nThe ligeti center invites you to listen more closely and discover new sounds—to explore\, experiment\, and play. This year\, ICMC HAMBURG 2026 revives an old tradition: the Off-ICMC\, a free and accompanying festival curated for the general public and anyone curious about computer music. \nAll Off-ICMC events are free of charge.  \n\n  \n \n 
URL:http://icmc2026.ligeti-zentrum.de/event/off-icmc-rehearsal-concert-visit-for-families/
LOCATION:Hamburg University of Technology (TUHH)\, Am Schwarzenberg-Campus 5\, Hamburg\, 21073\, Germany
CATEGORIES:14-05,Music,Off-ICMC
END:VEVENT
BEGIN:VEVENT
DTSTART;TZID=Europe/Amsterdam:20260514T180000
DTEND;TZID=Europe/Amsterdam:20260514T190000
DTSTAMP:20260421T154119
CREATED:20260415T122709Z
LAST-MODIFIED:20260417T115316Z
UID:10000123-1778781600-1778785200@icmc2026.ligeti-zentrum.de
SUMMARY:[Off-ICMC] Radioballett: Körperfunkkollektiv – Fragment
DESCRIPTION:Photo: Felix Konerding\n  \nRadioballett is an interactive performance that draws you into another world through wireless headphones\, where you and other participants can actively shape the space together.  \nThe piece “Fragment” explores the boundaries between private and public life through human experiences in both real and virtual worlds. It invites everyone to reflect on the balance between digital and “offline” existence and to engage with the interplay between social interaction and online networks. \nregistration required here \n  \nThe Off-ICMC\nMusic is what brings us together\, even when everything else pulls us apart.\nMusic everywhere—it is part of our everyday lives. And yet\, we’re hearing it performed live on analog instruments less and less. Instead\, it often reaches us through speakers or headphones\, as files\, from the cloud. What does music mean to you? What does it sound like today? Where does it begin—and where does it end?\nThe ligeti center invites you to listen more closely and discover new sounds—to explore\, experiment\, and play. This year\, ICMC HAMBURG 2026 revives an old tradition: the Off-ICMC\, a free and accompanying festival curated for the general public and anyone curious about computer music. \nAll Off-ICMC events are free of charge.  \n\n  \n \n 
URL:http://icmc2026.ligeti-zentrum.de/event/off-icmc-radioballet-korperfunkkollektiv-fragment/
LOCATION:Town Hall Square Harburg\, Harburger Rathausplatz 1\, Hamburg\, 21073\, Germany
CATEGORIES:14-05,Music,Off-ICMC
END:VEVENT
BEGIN:VEVENT
DTSTART;TZID=Europe/Amsterdam:20260515T183000
DTEND;TZID=Europe/Amsterdam:20260515T213000
DTSTAMP:20260421T154119
CREATED:20260415T122932Z
LAST-MODIFIED:20260417T115457Z
UID:10000124-1778869800-1778880600@icmc2026.ligeti-zentrum.de
SUMMARY:[Off-ICMC] Sound Bar: "Sono\, ergo sum." – I sound\, therefore I am.
DESCRIPTION:Photo: Soundbar Kollektiv\n  \nThe Soundbar is a performative pop-up bar that brings together socializing\, drinks\, and jam sessions. It serves as a workshop and experimental space\, offering an environment for exploring sound\, finding inspiration\, and connecting with others. What does your favorite drink sound like? Join us for Soundbar’s vibrant sound journeys. Let your glasses sing and discover new levels of sensory experience at the bar.  no registration required \n  \nThe Off-ICMC\nMusic is what brings us together\, even when everything else pulls us apart.\nMusic everywhere—it is part of our everyday lives. And yet\, we’re hearing it performed live on analog instruments less and less. Instead\, it often reaches us through speakers or headphones\, as files\, from the cloud. What does music mean to you? What does it sound like today? Where does it begin—and where does it end?\nThe ligeti center invites you to listen more closely and discover new sounds—to explore\, experiment\, and play. This year\, ICMC HAMBURG 2026 revives an old tradition: the Off-ICMC\, a free and accompanying festival curated for the general public and anyone curious about computer music. \nAll Off-ICMC events are free of charge.  \n\n  \n \n 
URL:http://icmc2026.ligeti-zentrum.de/event/off-icmc-sound-bar-sono-ergo-sum-i-sound-therefore-i-am/
LOCATION:ligeti center\, Production Lab (10th floor)\, Veritaskai 1\, Hamburg\, 21079\, Germany
CATEGORIES:15-05,Music,Off-ICMC,Performance
END:VEVENT
BEGIN:VEVENT
DTSTART;TZID=Europe/Amsterdam:20260515T193000
DTEND;TZID=Europe/Amsterdam:20260515T203000
DTSTAMP:20260421T154119
CREATED:20260415T123232Z
LAST-MODIFIED:20260417T115504Z
UID:10000125-1778873400-1778877000@icmc2026.ligeti-zentrum.de
SUMMARY:[Off-ICMC] Experimental Reading: Harburg. Das Buch – Excursions in Voice\, Photo & Music (German)
DESCRIPTION:Credits: Junius Verlag\n  \nAuthor Bärbel (Bascha) Wegner\, photographer Steven Haberland\, and musician Clarks Planet bring together text\, images\, and sound in a multi-layered exploration of the city of Harburg. Storytelling meets improvised music\, photographs interact with sound and field recordings.  \nThe familiar takes on new shapes\, improvisation unfolds—opening up fresh perspectives on the neighborhood\, not least from the vantage point of the Production Lab on the 10th floor.  \nIn German only.\nregistration required here \n  \nThe Off-ICMC\nMusic is what brings us together\, even when everything else pulls us apart.\nMusic everywhere—it is part of our everyday lives. And yet\, we’re hearing it performed live on analog instruments less and less. Instead\, it often reaches us through speakers or headphones\, as files\, from the cloud. What does music mean to you? What does it sound like today? Where does it begin—and where does it end?\nThe ligeti center invites you to listen more closely and discover new sounds—to explore\, experiment\, and play. This year\, ICMC HAMBURG 2026 revives an old tradition: the Off-ICMC\, a free and accompanying festival curated for the general public and anyone curious about computer music. \nAll Off-ICMC events are free of charge.  \n\n  \n \n 
URL:http://icmc2026.ligeti-zentrum.de/event/off-icmc-experimental-reading-harburg-das-buch-excursions-in-voice-photo-music-german/
LOCATION:ligeti center\, Production Lab (10th floor)\, Veritaskai 1\, Hamburg\, 21079\, Germany
CATEGORIES:15-05,Music,Off-ICMC,Performance
END:VEVENT
END:VCALENDAR