BEGIN:VCALENDAR
VERSION:2.0
PRODID:-//ICMC HAMBURG 2026 - ECPv6.15.20//NONSGML v1.0//EN
CALSCALE:GREGORIAN
METHOD:PUBLISH
X-WR-CALNAME:ICMC HAMBURG 2026
X-ORIGINAL-URL:http://icmc2026.ligeti-zentrum.de
X-WR-CALDESC:Events for ICMC HAMBURG 2026
REFRESH-INTERVAL;VALUE=DURATION:PT1H
X-Robots-Tag:noindex
X-PUBLISHED-TTL:PT1H
BEGIN:VTIMEZONE
TZID:Europe/Amsterdam
BEGIN:DAYLIGHT
TZOFFSETFROM:+0100
TZOFFSETTO:+0200
TZNAME:CEST
DTSTART:20250330T010000
END:DAYLIGHT
BEGIN:STANDARD
TZOFFSETFROM:+0200
TZOFFSETTO:+0100
TZNAME:CET
DTSTART:20251026T010000
END:STANDARD
BEGIN:DAYLIGHT
TZOFFSETFROM:+0100
TZOFFSETTO:+0200
TZNAME:CEST
DTSTART:20260329T010000
END:DAYLIGHT
BEGIN:STANDARD
TZOFFSETFROM:+0200
TZOFFSETTO:+0100
TZNAME:CET
DTSTART:20261025T010000
END:STANDARD
BEGIN:DAYLIGHT
TZOFFSETFROM:+0100
TZOFFSETTO:+0200
TZNAME:CEST
DTSTART:20270328T010000
END:DAYLIGHT
BEGIN:STANDARD
TZOFFSETFROM:+0200
TZOFFSETTO:+0100
TZNAME:CET
DTSTART:20271031T010000
END:STANDARD
END:VTIMEZONE
BEGIN:VEVENT
DTSTART;TZID=Europe/Amsterdam:20260515T183000
DTEND;TZID=Europe/Amsterdam:20260515T213000
DTSTAMP:20260421T193421
CREATED:20260415T122932Z
LAST-MODIFIED:20260417T115457Z
UID:10000124-1778869800-1778880600@icmc2026.ligeti-zentrum.de
SUMMARY:[Off-ICMC] Sound Bar: "Sono\, ergo sum." – I sound\, therefore I am.
DESCRIPTION:Photo: Soundbar Kollektiv\n  \nThe Soundbar is a performative pop-up bar that brings together socializing\, drinks\, and jam sessions. It serves as a workshop and experimental space\, offering an environment for exploring sound\, finding inspiration\, and connecting with others. What does your favorite drink sound like? Join us for Soundbar’s vibrant sound journeys. Let your glasses sing and discover new levels of sensory experience at the bar.  no registration required \n  \nThe Off-ICMC\nMusic is what brings us together\, even when everything else pulls us apart.\nMusic everywhere—it is part of our everyday lives. And yet\, we’re hearing it performed live on analog instruments less and less. Instead\, it often reaches us through speakers or headphones\, as files\, from the cloud. What does music mean to you? What does it sound like today? Where does it begin—and where does it end?\nThe ligeti center invites you to listen more closely and discover new sounds—to explore\, experiment\, and play. This year\, ICMC HAMBURG 2026 revives an old tradition: the Off-ICMC\, a free and accompanying festival curated for the general public and anyone curious about computer music. \nAll Off-ICMC events are free of charge.  \n\n  \n \n 
URL:http://icmc2026.ligeti-zentrum.de/event/off-icmc-sound-bar-sono-ergo-sum-i-sound-therefore-i-am/
LOCATION:ligeti center\, Production Lab (10th floor)\, Veritaskai 1\, Hamburg\, 21079\, Germany
CATEGORIES:15-05,Music,Off-ICMC,Performance
END:VEVENT
BEGIN:VEVENT
DTSTART;TZID=Europe/Amsterdam:20260515T193000
DTEND;TZID=Europe/Amsterdam:20260515T203000
DTSTAMP:20260421T193421
CREATED:20260415T123232Z
LAST-MODIFIED:20260417T115504Z
UID:10000125-1778873400-1778877000@icmc2026.ligeti-zentrum.de
SUMMARY:[Off-ICMC] Experimental Reading: Harburg. Das Buch – Excursions in Voice\, Photo & Music (German)
DESCRIPTION:Credits: Junius Verlag\n  \nAuthor Bärbel (Bascha) Wegner\, photographer Steven Haberland\, and musician Clarks Planet bring together text\, images\, and sound in a multi-layered exploration of the city of Harburg. Storytelling meets improvised music\, photographs interact with sound and field recordings.  \nThe familiar takes on new shapes\, improvisation unfolds—opening up fresh perspectives on the neighborhood\, not least from the vantage point of the Production Lab on the 10th floor.  \nIn German only.\nregistration required here \n  \nThe Off-ICMC\nMusic is what brings us together\, even when everything else pulls us apart.\nMusic everywhere—it is part of our everyday lives. And yet\, we’re hearing it performed live on analog instruments less and less. Instead\, it often reaches us through speakers or headphones\, as files\, from the cloud. What does music mean to you? What does it sound like today? Where does it begin—and where does it end?\nThe ligeti center invites you to listen more closely and discover new sounds—to explore\, experiment\, and play. This year\, ICMC HAMBURG 2026 revives an old tradition: the Off-ICMC\, a free and accompanying festival curated for the general public and anyone curious about computer music. \nAll Off-ICMC events are free of charge.  \n\n  \n \n 
URL:http://icmc2026.ligeti-zentrum.de/event/off-icmc-experimental-reading-harburg-das-buch-excursions-in-voice-photo-music-german/
LOCATION:ligeti center\, Production Lab (10th floor)\, Veritaskai 1\, Hamburg\, 21079\, Germany
CATEGORIES:15-05,Music,Off-ICMC,Performance
END:VEVENT
BEGIN:VEVENT
DTSTART;TZID=Europe/Amsterdam:20260515T200000
DTEND;TZID=Europe/Amsterdam:20260515T220000
DTSTAMP:20260421T193421
CREATED:20260421T171512Z
LAST-MODIFIED:20260421T171512Z
UID:10000177-1778875200-1778882400@icmc2026.ligeti-zentrum.de
SUMMARY:Evening Concert 5B (Lübeck)
DESCRIPTION:Program Overview\nImprovising Machine #7325: Inside My Trumpet\, Again\nJeff Kaiser \nThe Letter\nMinho Kang \nMoloch whose mind is pure machinery!\nEric Lyon \nTidal Unit for Sonic Activities\nIlia Viazov and Nicola Leonard Hein \nRhythmic Traces | Twisted Electronics\nNicola Leonard Hein \nFound Violin x Aromantic Hobby \nDong Zhou \nTokens & Strings: an improvisation between an electric guitarist and a local LLM\nOlivier Jambois
URL:http://icmc2026.ligeti-zentrum.de/event/evening-concert-5b-lubeck/
LOCATION:Lübeck University of Music: Großer Saal\, Große Petersgrube 21\, Lübeck\, 23552\, Germany
CATEGORIES:15-05,Concert,Excursion to Lübeck,Music
ORGANIZER;CN="ICMC HAMBURG 2026":MAILTO:info@icmc2026.ligeti-zentrum.de
END:VEVENT
END:VCALENDAR