BEGIN:VCALENDAR
VERSION:2.0
PRODID:-//ICMC HAMBURG 2026 - ECPv6.15.20//NONSGML v1.0//EN
CALSCALE:GREGORIAN
METHOD:PUBLISH
X-ORIGINAL-URL:http://icmc2026.ligeti-zentrum.de
X-WR-CALDESC:Events for ICMC HAMBURG 2026
REFRESH-INTERVAL;VALUE=DURATION:PT1H
X-Robots-Tag:noindex
X-PUBLISHED-TTL:PT1H
BEGIN:VTIMEZONE
TZID:Europe/Amsterdam
BEGIN:DAYLIGHT
TZOFFSETFROM:+0100
TZOFFSETTO:+0200
TZNAME:CEST
DTSTART:20250330T010000
END:DAYLIGHT
BEGIN:STANDARD
TZOFFSETFROM:+0200
TZOFFSETTO:+0100
TZNAME:CET
DTSTART:20251026T010000
END:STANDARD
BEGIN:DAYLIGHT
TZOFFSETFROM:+0100
TZOFFSETTO:+0200
TZNAME:CEST
DTSTART:20260329T010000
END:DAYLIGHT
BEGIN:STANDARD
TZOFFSETFROM:+0200
TZOFFSETTO:+0100
TZNAME:CET
DTSTART:20261025T010000
END:STANDARD
BEGIN:DAYLIGHT
TZOFFSETFROM:+0100
TZOFFSETTO:+0200
TZNAME:CEST
DTSTART:20270328T010000
END:DAYLIGHT
BEGIN:STANDARD
TZOFFSETFROM:+0200
TZOFFSETTO:+0100
TZNAME:CET
DTSTART:20271031T010000
END:STANDARD
END:VTIMEZONE
BEGIN:VEVENT
DTSTART;TZID=Europe/Amsterdam:20260514T120000
DTEND;TZID=Europe/Amsterdam:20260514T140000
DTSTAMP:20260421T193421
CREATED:20260415T122311Z
LAST-MODIFIED:20260417T115252Z
UID:10000122-1778760000-1778767200@icmc2026.ligeti-zentrum.de
SUMMARY:[Off-ICMC] Rehearsal & Concert Visit for Families
DESCRIPTION:Photo: Max Henschel\n  \nWhat does contemporary music sound like? What happens during the rehearsals? And what challenges might occur? We’ll look into these questions during rehearsal and concert visit for families.  \nFor families with children aged 7+\nRegistration required here \n  \nThe Off-ICMC\nMusic is what brings us together\, even when everything else pulls us apart.\nMusic everywhere—it is part of our everyday lives. And yet\, we’re hearing it performed live on analog instruments less and less. Instead\, it often reaches us through speakers or headphones\, as files\, from the cloud. What does music mean to you? What does it sound like today? Where does it begin—and where does it end?\nThe ligeti center invites you to listen more closely and discover new sounds—to explore\, experiment\, and play. This year\, ICMC HAMBURG 2026 revives an old tradition: the Off-ICMC\, a free and accompanying festival curated for the general public and anyone curious about computer music. \nAll Off-ICMC events are free of charge.  \n\n  \n \n 
URL:http://icmc2026.ligeti-zentrum.de/event/off-icmc-rehearsal-concert-visit-for-families/
LOCATION:Hamburg University of Technology (TUHH)\, Am Schwarzenberg-Campus 5\, Hamburg\, 21073\, Germany
CATEGORIES:14-05,Music,Off-ICMC
END:VEVENT
BEGIN:VEVENT
DTSTART;TZID=Europe/Amsterdam:20260514T133000
DTEND;TZID=Europe/Amsterdam:20260514T153000
DTSTAMP:20260421T193421
CREATED:20260421T162627Z
LAST-MODIFIED:20260421T170718Z
UID:10000093-1778765400-1778772600@icmc2026.ligeti-zentrum.de
SUMMARY:Lunch Concert 4A
DESCRIPTION:Program Overview\nULYSSES II\nRoberto Cipollina and Eleonora Podestà \nThe Week\nHenrik von Coler \nEmpress Luo\nYao Hsiao \nconfim\, assim\, sem fim\nRodrigo Pascale \nThe Water lily in the blaze\nNatsuki Kambe \nLa Nuit Bleue\nZhixin Xu and Yunze Mu \n 
URL:http://icmc2026.ligeti-zentrum.de/event/lunch-concert-4a/
LOCATION:Hamburg University of Technology\, Audimax 2\, Denickestraße 22\, Hamburg\, 21073\, Germany
CATEGORIES:14-05,Concert,Music
ORGANIZER;CN="ICMC HAMBURG 2026":MAILTO:info@icmc2026.ligeti-zentrum.de
END:VEVENT
BEGIN:VEVENT
DTSTART;TZID=Europe/Amsterdam:20260514T180000
DTEND;TZID=Europe/Amsterdam:20260514T190000
DTSTAMP:20260421T193421
CREATED:20260415T122709Z
LAST-MODIFIED:20260417T115316Z
UID:10000123-1778781600-1778785200@icmc2026.ligeti-zentrum.de
SUMMARY:[Off-ICMC] Radioballett: Körperfunkkollektiv – Fragment
DESCRIPTION:Photo: Felix Konerding\n  \nRadioballett is an interactive performance that draws you into another world through wireless headphones\, where you and other participants can actively shape the space together.  \nThe piece “Fragment” explores the boundaries between private and public life through human experiences in both real and virtual worlds. It invites everyone to reflect on the balance between digital and “offline” existence and to engage with the interplay between social interaction and online networks. \nregistration required here \n  \nThe Off-ICMC\nMusic is what brings us together\, even when everything else pulls us apart.\nMusic everywhere—it is part of our everyday lives. And yet\, we’re hearing it performed live on analog instruments less and less. Instead\, it often reaches us through speakers or headphones\, as files\, from the cloud. What does music mean to you? What does it sound like today? Where does it begin—and where does it end?\nThe ligeti center invites you to listen more closely and discover new sounds—to explore\, experiment\, and play. This year\, ICMC HAMBURG 2026 revives an old tradition: the Off-ICMC\, a free and accompanying festival curated for the general public and anyone curious about computer music. \nAll Off-ICMC events are free of charge.  \n\n  \n \n 
URL:http://icmc2026.ligeti-zentrum.de/event/off-icmc-radioballet-korperfunkkollektiv-fragment/
LOCATION:Town Hall Square Harburg\, Harburger Rathausplatz 1\, Hamburg\, 21073\, Germany
CATEGORIES:14-05,Music,Off-ICMC
END:VEVENT
BEGIN:VEVENT
DTSTART;TZID=Europe/Amsterdam:20260514T190000
DTEND;TZID=Europe/Amsterdam:20260514T210000
DTSTAMP:20260421T193421
CREATED:20260421T163025Z
LAST-MODIFIED:20260421T163025Z
UID:10000096-1778785200-1778792400@icmc2026.ligeti-zentrum.de
SUMMARY:Evening Concert 4B
DESCRIPTION:Program Overview\nKryptobioza\nLidia Zielinska \nTide\, breath\nZihan Wang \nEverybody Loves Me\nHoward Kenty \nPresent-Day Jakuchu Series: Butterfly Pictures “Inachis io”\nNaotoshi Osaka \nComing and Vanishing \nYixuan Zhao \nZusammenspiel I\nJavier Alejandro Garavaglia \nVesscape\nDanni Zhao and Congren Dai \n 
URL:http://icmc2026.ligeti-zentrum.de/event/evening-concert-4b/
LOCATION:Friedrich-Ebert-Halle\, Alter Postweg 34\, Hamburg\, 21075\, Germany
CATEGORIES:14-05,Concert,Music
ORGANIZER;CN="ICMC HAMBURG 2026":MAILTO:info@icmc2026.ligeti-zentrum.de
END:VEVENT
BEGIN:VEVENT
DTSTART;TZID=Europe/Amsterdam:20260514T210000
DTEND;TZID=Europe/Amsterdam:20260514T230000
DTSTAMP:20260421T193421
CREATED:20260421T163434Z
LAST-MODIFIED:20260421T163434Z
UID:10000069-1778792400-1778799600@icmc2026.ligeti-zentrum.de
SUMMARY:Club Concert 4C
DESCRIPTION:Program Overview\nMerzmania\nGintas Kraptavicius \nImprovisation for Spheres \nCalvin McCormack \nMarsia 3\nJonathan Impett \noscheat\nMoritz Wesp\, Eric Haupt and Victor Gelling \nThe Skin of the Earth: Fragments\nPaulo C. Chagas \nThe Long Now III \nCat Hope and Juan Parra Cancino \nTape Speed and Feedback\nAndrew Loveless \n 
URL:http://icmc2026.ligeti-zentrum.de/event/club-concert-4c/
LOCATION:ligeti center\, Production Lab (10th floor)\, Veritaskai 1\, Hamburg\, 21079\, Germany
CATEGORIES:14-05,Club Concert,Music
ORGANIZER;CN="ICMC HAMBURG 2026":MAILTO:info@icmc2026.ligeti-zentrum.de
END:VEVENT
END:VCALENDAR